BEGIN:VCALENDAR
VERSION:2.0
PRODID:-//Tukios.com/
BEGIN:VEVENT
UID:e4b80c49-663f-4dea-adbc-4aec1856e294@www.farrowfh.com
DTSTAMP:20260423T231930Z
DTSTART:20260501T140000Z
DTEND:20260501T160000Z
SUMMARY:Visitation
DESCRIPTION:
URL:https://www.farrowfh.com/obituaries/edward-heim
LOCATION:Farrow-Campbell Funeral & Cremation Service, Inc. 240 W. 
	Chestnut St.  Shamokin PA 17872
GEO:40.787502;-76.5599087
END:VEVENT
END:VCALENDAR