BEGIN:VCALENDAR
VERSION:2.0
PRODID:-//Tukios.com/
BEGIN:VEVENT
UID:2817d112-776b-4901-b159-38d834e44be0@www.farrowfh.com
DTSTAMP:20260423T231730Z
DTSTART:20260501T160000Z
DTEND:20260501T170000Z
SUMMARY:Celebration of Life
DESCRIPTION:
URL:https://www.farrowfh.com/obituaries/edward-heim
LOCATION:Farrow-Campbell Funeral & Cremation Service, Inc. 240 W. 
	Chestnut St.  Shamokin PA 17872
GEO:40.787502;-76.5599087
END:VEVENT
END:VCALENDAR